BEGIN:VCALENDAR
VERSION:2.0
PRODID:-//AUDI Konfuzius-Institut Ingolstadt - ECPv6.15.18//NONSGML v1.0//EN
CALSCALE:GREGORIAN
METHOD:PUBLISH
X-ORIGINAL-URL:https://audi-konfuzius-institut-ingolstadt.de
X-WR-CALDESC:Veranstaltungen für AUDI Konfuzius-Institut Ingolstadt
REFRESH-INTERVAL;VALUE=DURATION:PT1H
X-Robots-Tag:noindex
X-PUBLISHED-TTL:PT1H
BEGIN:VTIMEZONE
TZID:Europe/Berlin
BEGIN:DAYLIGHT
TZOFFSETFROM:+0100
TZOFFSETTO:+0200
TZNAME:CEST
DTSTART:20240331T010000
END:DAYLIGHT
BEGIN:STANDARD
TZOFFSETFROM:+0200
TZOFFSETTO:+0100
TZNAME:CET
DTSTART:20241027T010000
END:STANDARD
BEGIN:DAYLIGHT
TZOFFSETFROM:+0100
TZOFFSETTO:+0200
TZNAME:CEST
DTSTART:20250330T010000
END:DAYLIGHT
BEGIN:STANDARD
TZOFFSETFROM:+0200
TZOFFSETTO:+0100
TZNAME:CET
DTSTART:20251026T010000
END:STANDARD
BEGIN:DAYLIGHT
TZOFFSETFROM:+0100
TZOFFSETTO:+0200
TZNAME:CEST
DTSTART:20260329T010000
END:DAYLIGHT
BEGIN:STANDARD
TZOFFSETFROM:+0200
TZOFFSETTO:+0100
TZNAME:CET
DTSTART:20261025T010000
END:STANDARD
END:VTIMEZONE
BEGIN:VEVENT
DTSTART;TZID=Europe/Berlin:20251010T190000
DTEND;TZID=Europe/Berlin:20251010T210000
DTSTAMP:20260423T112544
CREATED:20250721T094806Z
LAST-MODIFIED:20250721T094806Z
UID:30390-1760122800-1760130000@audi-konfuzius-institut-ingolstadt.de
SUMMARY:Munich Paramount 50 Jahre chinesischer Rock‘n Roll
DESCRIPTION:
URL:https://audi-konfuzius-institut-ingolstadt.de/termin/munich-paramount-50-jahre-chinesischer-rockn-roll
LOCATION:Reimanns in der Technischen Hochschule Ingolstadt\, Esplanade 10\, Ingolstadt\, Bayern\, 85049\, Germany
ORGANIZER;CN="Audi Konfuzius-Institut Ingolstadt":MAILTO:contact@audi-konfuzius-institut-ingolstadt.de
END:VEVENT
BEGIN:VEVENT
DTSTART;TZID=Europe/Berlin:20251016T183000
DTEND;TZID=Europe/Berlin:20251016T200000
DTSTAMP:20260423T112544
CREATED:20260109T210011Z
LAST-MODIFIED:20260109T211008Z
UID:30913-1760639400-1760644800@audi-konfuzius-institut-ingolstadt.de
SUMMARY:Kopfschmerzen und Migräne | Vortragsreihe: Chinesische Medizin in der Praxis
DESCRIPTION:Zoom-Meeting beitreten \nMeeting-ID: 954 0598 2938\nKenncode: 020279
URL:https://audi-konfuzius-institut-ingolstadt.de/termin/kopfschmerzen-und-migraene-vortragsreihe-chinesische-medizin-in-der-praxis
LOCATION:Online
ORGANIZER;CN="Audi Konfuzius-Institut Ingolstadt":MAILTO:contact@audi-konfuzius-institut-ingolstadt.de
END:VEVENT
END:VCALENDAR