BEGIN:VCALENDAR
VERSION:2.0
PRODID:-//AUDI Konfuzius-Institut Ingolstadt - ECPv6.15.18//NONSGML v1.0//EN
CALSCALE:GREGORIAN
METHOD:PUBLISH
X-WR-CALNAME:AUDI Konfuzius-Institut Ingolstadt
X-ORIGINAL-URL:https://audi-konfuzius-institut-ingolstadt.de
X-WR-CALDESC:Veranstaltungen für AUDI Konfuzius-Institut Ingolstadt
REFRESH-INTERVAL;VALUE=DURATION:PT1H
X-Robots-Tag:noindex
X-PUBLISHED-TTL:PT1H
BEGIN:VTIMEZONE
TZID:Europe/Berlin
BEGIN:DAYLIGHT
TZOFFSETFROM:+0100
TZOFFSETTO:+0200
TZNAME:CEST
DTSTART:20230326T010000
END:DAYLIGHT
BEGIN:STANDARD
TZOFFSETFROM:+0200
TZOFFSETTO:+0100
TZNAME:CET
DTSTART:20231029T010000
END:STANDARD
BEGIN:DAYLIGHT
TZOFFSETFROM:+0100
TZOFFSETTO:+0200
TZNAME:CEST
DTSTART:20240331T010000
END:DAYLIGHT
BEGIN:STANDARD
TZOFFSETFROM:+0200
TZOFFSETTO:+0100
TZNAME:CET
DTSTART:20241027T010000
END:STANDARD
BEGIN:DAYLIGHT
TZOFFSETFROM:+0100
TZOFFSETTO:+0200
TZNAME:CEST
DTSTART:20250330T010000
END:DAYLIGHT
BEGIN:STANDARD
TZOFFSETFROM:+0200
TZOFFSETTO:+0100
TZNAME:CET
DTSTART:20251026T010000
END:STANDARD
END:VTIMEZONE
BEGIN:VEVENT
DTSTART;VALUE=DATE:20240301
DTEND;VALUE=DATE:20240315
DTSTAMP:20260420T071609
CREATED:20240210T113920Z
LAST-MODIFIED:20240210T113920Z
UID:29161-1709251200-1710460799@audi-konfuzius-institut-ingolstadt.de
SUMMARY:ERLEBNISREISE 2024 INS REICH DER MITTE
DESCRIPTION:
URL:https://audi-konfuzius-institut-ingolstadt.de/termin/erlebnisreise-2024-ins-reich-der-mitte
LOCATION:Bayern
END:VEVENT
END:VCALENDAR