BEGIN:VCALENDAR
VERSION:2.0
PRODID:-//AUDI Konfuzius-Institut Ingolstadt - ECPv6.15.18//NONSGML v1.0//EN
CALSCALE:GREGORIAN
METHOD:PUBLISH
X-ORIGINAL-URL:https://audi-konfuzius-institut-ingolstadt.de
X-WR-CALDESC:Veranstaltungen für AUDI Konfuzius-Institut Ingolstadt
REFRESH-INTERVAL;VALUE=DURATION:PT1H
X-Robots-Tag:noindex
X-PUBLISHED-TTL:PT1H
BEGIN:VTIMEZONE
TZID:Europe/Berlin
BEGIN:DAYLIGHT
TZOFFSETFROM:+0100
TZOFFSETTO:+0200
TZNAME:CEST
DTSTART:20250330T010000
END:DAYLIGHT
BEGIN:STANDARD
TZOFFSETFROM:+0200
TZOFFSETTO:+0100
TZNAME:CET
DTSTART:20251026T010000
END:STANDARD
BEGIN:DAYLIGHT
TZOFFSETFROM:+0100
TZOFFSETTO:+0200
TZNAME:CEST
DTSTART:20260329T010000
END:DAYLIGHT
BEGIN:STANDARD
TZOFFSETFROM:+0200
TZOFFSETTO:+0100
TZNAME:CET
DTSTART:20261025T010000
END:STANDARD
BEGIN:DAYLIGHT
TZOFFSETFROM:+0100
TZOFFSETTO:+0200
TZNAME:CEST
DTSTART:20270328T010000
END:DAYLIGHT
BEGIN:STANDARD
TZOFFSETFROM:+0200
TZOFFSETTO:+0100
TZNAME:CET
DTSTART:20271031T010000
END:STANDARD
END:VTIMEZONE
BEGIN:VEVENT
DTSTART;TZID=Europe/Berlin:20260126T080000
DTEND;TZID=Europe/Berlin:20260126T170000
DTSTAMP:20260422T110943
CREATED:20260109T214235Z
LAST-MODIFIED:20260109T214235Z
UID:30942-1769414400-1769446800@audi-konfuzius-institut-ingolstadt.de
SUMMARY:TAICHI | 太极 Fortgeschrittene
DESCRIPTION:
URL:https://audi-konfuzius-institut-ingolstadt.de/termin/taichi-%e5%a4%aa%e6%9e%81-fortgeschrittene
LOCATION:Aula A-Gebäude Technischer Hochschule Ingolstadt\, Esplanade 10\, Ingolstadt\, Bayern\, 85049\, Deutschland
ORGANIZER;CN="Audi Konfuzius-Institut Ingolstadt":MAILTO:contact@audi-konfuzius-institut-ingolstadt.de
END:VEVENT
END:VCALENDAR