BEGIN:VCALENDAR
VERSION:2.0
PRODID:-//AUDI Konfuzius-Institut Ingolstadt - ECPv6.15.18//NONSGML v1.0//EN
CALSCALE:GREGORIAN
METHOD:PUBLISH
X-WR-CALNAME:AUDI Konfuzius-Institut Ingolstadt
X-ORIGINAL-URL:https://audi-konfuzius-institut-ingolstadt.de
X-WR-CALDESC:Veranstaltungen für AUDI Konfuzius-Institut Ingolstadt
REFRESH-INTERVAL;VALUE=DURATION:PT1H
X-Robots-Tag:noindex
X-PUBLISHED-TTL:PT1H
BEGIN:VTIMEZONE
TZID:Europe/Berlin
BEGIN:DAYLIGHT
TZOFFSETFROM:+0100
TZOFFSETTO:+0200
TZNAME:CEST
DTSTART:20250330T010000
END:DAYLIGHT
BEGIN:STANDARD
TZOFFSETFROM:+0200
TZOFFSETTO:+0100
TZNAME:CET
DTSTART:20251026T010000
END:STANDARD
BEGIN:DAYLIGHT
TZOFFSETFROM:+0100
TZOFFSETTO:+0200
TZNAME:CEST
DTSTART:20260329T010000
END:DAYLIGHT
BEGIN:STANDARD
TZOFFSETFROM:+0200
TZOFFSETTO:+0100
TZNAME:CET
DTSTART:20261025T010000
END:STANDARD
BEGIN:DAYLIGHT
TZOFFSETFROM:+0100
TZOFFSETTO:+0200
TZNAME:CEST
DTSTART:20270328T010000
END:DAYLIGHT
BEGIN:STANDARD
TZOFFSETFROM:+0200
TZOFFSETTO:+0100
TZNAME:CET
DTSTART:20271031T010000
END:STANDARD
END:VTIMEZONE
BEGIN:VEVENT
DTSTART;TZID=Europe/Berlin:20260110T100000
DTEND;TZID=Europe/Berlin:20260110T140000
DTSTAMP:20260422T095453
CREATED:20260109T212924Z
LAST-MODIFIED:20260109T212924Z
UID:30936-1768039200-1768053600@audi-konfuzius-institut-ingolstadt.de
SUMMARY:WORKSHOP TUSCHEMALEREI | 中国画艺术
DESCRIPTION:
URL:https://audi-konfuzius-institut-ingolstadt.de/termin/workshop-tuschemalerei-%e4%b8%ad%e5%9b%bd%e7%94%bb%e8%89%ba%e6%9c%af
LOCATION:Technische Hochschule Ingolstadt\, Esplanade 10\, Ingolstadt\, Deutschland
ORGANIZER;CN="Audi Konfuzius-Institut Ingolstadt":MAILTO:contact@audi-konfuzius-institut-ingolstadt.de
END:VEVENT
END:VCALENDAR