BEGIN:VCALENDAR
VERSION:2.0
PRODID:-//AUDI Konfuzius-Institut Ingolstadt - ECPv6.15.18//NONSGML v1.0//EN
CALSCALE:GREGORIAN
METHOD:PUBLISH
X-WR-CALNAME:AUDI Konfuzius-Institut Ingolstadt
X-ORIGINAL-URL:https://audi-konfuzius-institut-ingolstadt.de
X-WR-CALDESC:Veranstaltungen für AUDI Konfuzius-Institut Ingolstadt
REFRESH-INTERVAL;VALUE=DURATION:PT1H
X-Robots-Tag:noindex
X-PUBLISHED-TTL:PT1H
BEGIN:VTIMEZONE
TZID:Europe/Berlin
BEGIN:DAYLIGHT
TZOFFSETFROM:+0100
TZOFFSETTO:+0200
TZNAME:CEST
DTSTART:20240331T010000
END:DAYLIGHT
BEGIN:STANDARD
TZOFFSETFROM:+0200
TZOFFSETTO:+0100
TZNAME:CET
DTSTART:20241027T010000
END:STANDARD
BEGIN:DAYLIGHT
TZOFFSETFROM:+0100
TZOFFSETTO:+0200
TZNAME:CEST
DTSTART:20250330T010000
END:DAYLIGHT
BEGIN:STANDARD
TZOFFSETFROM:+0200
TZOFFSETTO:+0100
TZNAME:CET
DTSTART:20251026T010000
END:STANDARD
BEGIN:DAYLIGHT
TZOFFSETFROM:+0100
TZOFFSETTO:+0200
TZNAME:CEST
DTSTART:20260329T010000
END:DAYLIGHT
BEGIN:STANDARD
TZOFFSETFROM:+0200
TZOFFSETTO:+0100
TZNAME:CET
DTSTART:20261025T010000
END:STANDARD
END:VTIMEZONE
BEGIN:VEVENT
DTSTART;TZID=Europe/Berlin:20251209T150000
DTEND;TZID=Europe/Berlin:20251209T170000
DTSTAMP:20260421T233537
CREATED:20260109T211411Z
LAST-MODIFIED:20260109T212629Z
UID:30923-1765292400-1765299600@audi-konfuzius-institut-ingolstadt.de
SUMMARY:China in den chinesischen Schriftzeichen
DESCRIPTION:
URL:https://audi-konfuzius-institut-ingolstadt.de/termin/china-in-den-chinesischen-schriftzeichen
LOCATION:Technische Hochschule Ingolstadt\, Esplanade 10\, Ingolstadt\, Deutschland
ORGANIZER;CN="Audi Konfuzius-Institut Ingolstadt":MAILTO:contact@audi-konfuzius-institut-ingolstadt.de
END:VEVENT
END:VCALENDAR